Uber Exif Photo
Make : Leica Camera AG
Camera Model Name : R9 - Digital Back DMR
Software : Adobe Photoshop Lightroom 3.4
Modify Date : 2012:02:10 18:07:59
Exposure Time : 1/60
F Number : 13.0
Exposure Program : Aperture-priority AE
ISO : 100
Date/Time Original : 2006:03:26 11:06:03
Create Date : 2006:03:26 11:06:03
Shutter Speed Value : 1/60
Aperture Value : 13.0
Exposure Compensation : 0
Max Aperture Value : 2.8
Metering Mode : Average
Light Source : Other
Flash : No flash function
Focal Length : 28.0 mm
WB RGB Levels : 0 256 512
White Balance : Auto
Contrast : Normal
Saturation : Normal
Sharpness : Normal
Serial Number : 1000361
Maker Note Safety : Safe
Profile Description : Adobe RGB (1998)
Creator Tool : Adobe Photoshop Lightroom 3.4
Date Created : 2006:03:26 11:06:03
Version : 6.4
Process Version : 5.7
Color Temperature : 4700
Tint : 0
Exposure : +1.15
Shadows : 1
Brightness : 0
Luminance Smoothing : 0
Color Noise Reduction : 25
Chromatic Aberration R : 0
Chromatic Aberration B : 0
Vignette Amount : 0
Shadow Tint : 0
Red Hue : 0
Red Saturation : 0
Green Hue : 0
Green Saturation : 0
Blue Hue : 0
Blue Saturation : 0
Fill Light : 0
Vibrance : 0
Highlight Recovery : 100
Clarity : 0
Defringe : 0
Hue Adjustment Red : 0
Hue Adjustment Orange : 0
Hue Adjustment Yellow : 0
Hue Adjustment Green : 0
Hue Adjustment Aqua : 0
Hue Adjustment Blue : 0
Hue Adjustment Purple : 0
Hue Adjustment Magenta : 0
Saturation Adjustment Red : 0
Saturation Adjustment Orange : +13
Saturation Adjustment Yellow : +23
Saturation Adjustment Green : +10
Saturation Adjustment Aqua : +50
Saturation Adjustment Blue : +58
Saturation Adjustment Purple : +23
Saturation Adjustment Magenta : 0
Luminance Adjustment Red : 0
Luminance Adjustment Orange : 0
Luminance Adjustment Yellow : 0
Luminance Adjustment Green : 0
Luminance Adjustment Aqua : 0
Luminance Adjustment Blue : 0
Luminance Adjustment Purple : 0
Luminance Adjustment Magenta : 0
Split Toning Shadow Hue : 0
Split Toning Shadow Saturation : 0
Split Toning Highlight Hue : 0
Split Toning Highlight Saturation : 0
Split Toning Balance : 0
Parametric Shadows : -60
Parametric Darks : -20
Parametric Lights : +10
Parametric Highlights : +60
Parametric Shadow Split : 25
Parametric Midtone Split : 50
Parametric Highlight Split : 75
Sharpen Radius : +1.0
Sharpen Detail : 25
Sharpen Edge Masking : 0
Post Crop Vignette Amount : 0
Grain Amount : 0
Color Noise Reduction Detail : 50
Lens Profile Enable : 0
Lens Manual Distortion Amount : 0
Perspective Vertical : 0
Perspective Horizontal : 0
Perspective Rotate : 0.0
Perspective Scale : 100
Convert To Grayscale : False
Tone Curve Name : Linear
Camera Profile : Embedded
Lens Profile Setup : LensDefaults
Has Settings : True
Has Crop : False
Already Applied : True
Tone Curve : 0, 0, 255, 255
Paint Correction What : Correction
Paint Correction Amount : 1.000000
Paint Correction Active : true
Paint Correction Exposure : 0.179487
Paint Correction Saturation : 0.000000
Paint Correction Contrast : 0.000000
Paint Correction Clarity : 0.000000
Paint Correction Sharpness : 0.000000
Paint Correction Brightness : 0.000000
Paint Correction Toning Hue : 358.000000
Paint Correction Toning Saturation : 0.000000
Paint Correction Mask What : Mask/Paint
Paint Correction Mask Value : 1.000000
Paint Correction Mask Radius : 0.086269
Paint Correction Mask Flow : 0.923846
Paint Correction Mask Center Weight : 0.023049
Image Width : 300
Image Height : 200
Bits Per Sample : 8
Color Components : 3
Aperture : 13.0
Blue Balance : 2
Image Size : 300x200
Megapixels : 0.060
Red Balance : 0
Shutter Speed : 1/60
Light Value : 13.3