Uber Exif Photo
Make : Noritsu Koki
Camera Model Name : QSS
Software : Adobe Photoshop CS3 Macintosh
Modify Date : 2010:10:25 21:09:01
Sensitivity Type : Unknown
Color Space : sRGB
Exif Image Width : 750
Exif Image Height : 424
Date/Time Original : : : : :
Date/Time Digitized : : : : : Create Date : 2007:09:30 13:08:16-07:00
Creator Tool : Adobe Photoshop Lightroom
Format : image/jpeg
Version : 6.2
Process Version : 5.7
White Balance : Custom
Incremental Temperature : +8
Incremental Tint : -16
Exposure : -0.25
Shadows : 0
Brightness : 0
Contrast : -12
Sharpness : 25
Luminance Smoothing : 0
Color Noise Reduction : 25
Chromatic Aberration R : 0
Chromatic Aberration B : 0
Vignette Amount : 0
Shadow Tint : 0
Red Hue : 0
Red Saturation : 0
Green Hue : 0
Green Saturation : 0
Blue Hue : 0
Blue Saturation : 0
Fill Light : 0
Highlight Recovery : 0
Clarity : +42
Defringe : 0
Gray Mixer Red : +39
Gray Mixer Orange : +12
Gray Mixer Yellow : -9
Gray Mixer Green : -17
Gray Mixer Aqua : -10
Gray Mixer Blue : +20
Gray Mixer Purple : +25
Gray Mixer Magenta : +32
Split Toning Shadow Hue : 0
Split Toning Shadow Saturation : 0
Split Toning Highlight Hue : 0
Split Toning Highlight Saturation : 0
Split Toning Balance : 0
Parametric Shadows : 0
Parametric Darks : -17
Parametric Lights : +28
Parametric Highlights : 0
Parametric Shadow Split : 25
Parametric Midtone Split : 50
Parametric Highlight Split : 75
Sharpen Radius : +1.0
Sharpen Detail : 25
Sharpen Edge Masking : 0
Post Crop Vignette Amount : -9
Post Crop Vignette Midpoint : 50
Post Crop Vignette Feather : 50
Post Crop Vignette Roundness : 0
Post Crop Vignette Style : Highlight Priority
Post Crop Vignette Highlight Contrast : 0
Grain Amount : 0
Color Noise Reduction Detail : 50
Lens Profile Enable : 0
Lens Manual Distortion Amount : 0
Perspective Vertical : 0
Perspective Horizontal : 0
Perspective Rotate : 0.0
Perspective Scale : 100
Convert To Grayscale : True
Tone Curve Name : Medium Contrast
Camera Profile : Embedded
Lens Profile Setup : LensDefaults
Has Settings : True
Has Crop : False
Already Applied : True
Derived From : Tone Curve : 0, 0, 32, 22, 64, 56, 128, 128, 192, 196, 255, 255
Image Width : 300
Image Height : 170
Bits Per Sample : 8
Color Components : 1
Image Size : 300x170
Megapixels : 0.051