Uber Exif Photo
Make : Leica Camera AG
Camera Model Name : LEICA M11
Software : Adobe Photoshop Lightroom 6.14 (Windows)
Modify Date : 2024:09:09 17:52:52
Exposure Time : 1/180
F Number : 5.6
Exposure Program : Aperture-priority AE
ISO : 64
Sensitivity Type : Standard Output Sensitivity
Standard Output Sensitivity : 64
ISO Speed : 64
Date/Time Original : 2024:09:03 03:02:55
Create Date : 2024:09:03 03:02:55
Shutter Speed Value : 1/180
Aperture Value : 5.6
Exposure Compensation : 0
Max Aperture Value : 2.0
Metering Mode : Multi-segment
Light Source : Unknown
Flash : No Flash
Focal Length : 35.0 mm
Color Space : sRGB
Scene Type : Directly photographed
Custom Rendered : Normal
Exposure Mode : Auto
White Balance : Auto
Digital Zoom Ratio : 0
Scene Capture Type : Standard
Contrast : Normal
Saturation : Normal
Sharpness : Normal
Serial Number : 5587795
Lens Info : 35mm f/2
Lens Make : Leica Camera AG
Lens Model : Summicron-M 1:2/35 ASPH.
Profile Description : sRGB IEC61966-2.1
Version ID : 02.00
Creator Tool : Adobe Photoshop Lightroom 6.14 (Windows)
Format : image/jpeg
Correction Already Applied : False
Pitch Angle : -1.1039999723
Roll Angle : -1.1560000181
Focal Length 35mm : 35.0000000000
Target Aspect Ratio : 1.5000000000
Scaling Factor Height : 0.9703031182
Valid Crop Corners : True
Apply Automatically : False
Lens : Summicron-M 1:2/35 ASPH.
Date Created : 2024:09:03 03:02:55
Version : 10.1
Process Version : 6.7
Auto White Version : 134348800
Color Temperature : 5200
Tint : +18
Luminance Smoothing : 0
Color Noise Reduction : 25
Vignette Amount : 0
Shadow Tint : 0
Red Hue : 0
Red Saturation : 0
Green Hue : 0
Green Saturation : 0
Blue Hue : 0
Blue Saturation : 0
Gray Mixer Red : -10
Gray Mixer Orange : -19
Gray Mixer Yellow : -24
Gray Mixer Green : -27
Gray Mixer Aqua : -18
Gray Mixer Blue : +12
Gray Mixer Purple : +17
Gray Mixer Magenta : +5
Split Toning Shadow Hue : 0
Split Toning Shadow Saturation : 0
Split Toning Highlight Hue : 0
Split Toning Highlight Saturation : 0
Split Toning Balance : 0
Parametric Shadows : 0
Parametric Darks : 0
Parametric Lights : 0
Parametric Highlights : 0
Parametric Shadow Split : 25
Parametric Midtone Split : 50
Parametric Highlight Split : 75
Sharpen Radius : +1.0
Sharpen Detail : 25
Sharpen Edge Masking : 0
Post Crop Vignette Amount : -9
Post Crop Vignette Midpoint : 50
Post Crop Vignette Feather : 50
Post Crop Vignette Roundness : 0
Post Crop Vignette Style : Highlight Priority
Post Crop Vignette Highlight Contrast : 0
Grain Amount : 60
Grain Size : 25
Grain Frequency : 50
Color Noise Reduction Detail : 50
Color Noise Reduction Smoothness : 50
Lens Profile Enable : 0
Lens Manual Distortion Amount : 0
Perspective Vertical : 0
Perspective Horizontal : 0
Perspective Rotate : 0.0
Perspective Scale : 100
Perspective Aspect : 0
Perspective Upright : Off
Perspective X : 0.00
Perspective Y : 0.00
Auto Lateral CA : 0
Exposure 2012 : -0.22
Contrast 2012 : +15
Highlights 2012 : -76
Shadows 2012 : +1
Whites 2012 : 0
Blacks 2012 : +14
Clarity 2012 : +30
Dehaze : 0
Tone Map Strength : 0
Convert To Grayscale : True
Tone Curve Name : Linear
Tone Curve Name 2012 : Strong Contrast
Camera Profile : Adobe Standard
Lens Profile Setup : LensDefaults
Has Settings : True
Crop Top : 0.004464
Crop Left : 0.001248
Crop Bottom : 0.995536
Crop Right : 0.998752
Crop Angle : -0.170647
Crop Constrain To Warp : 0
Has Crop : True
Already Applied : True
Derived From Version ID : 02.00
Normalized Crop Corners : 0.0183639358, 0.0000000000, 0.9946910142, 0.0295515824, 0.9754256010, 0.9992561936, 0.0115343686, 0.9700810313
Tone Curve : 0, 0, 255, 255
Tone Curve Red : 0, 0, 255, 255
Tone Curve Green : 0, 0, 255, 255
Tone Curve Blue : 0, 0, 255, 255
Tone Curve PV2012 : 0, 0, 32, 16, 64, 50, 128, 128, 192, 202, 255, 255
Tone Curve PV2012 Red : 0, 0, 255, 255
Tone Curve PV2012 Green : 0, 0, 255, 255
Tone Curve PV2012 Blue : 0, 0, 255, 255
Image Width : 400
Image Height : 266
Bits Per Sample : 8
Color Components : 3
Aperture : 5.6
Image Size : 400x266
Megapixels : 0.106
Shutter Speed : 1/180
Light Value : 13.1
Lens ID : Summicron-M 1:2/35 ASPH.